BEGIN:VCALENDAR
VERSION:2.0
PRODID:-//The Poe Museum - ECPv6.15.20//NONSGML v1.0//EN
CALSCALE:GREGORIAN
METHOD:PUBLISH
X-ORIGINAL-URL:https://poemuseum.org
X-WR-CALDESC:Events for The Poe Museum
REFRESH-INTERVAL;VALUE=DURATION:PT1H
X-Robots-Tag:noindex
X-PUBLISHED-TTL:PT1H
BEGIN:VTIMEZONE
TZID:America/New_York
BEGIN:DAYLIGHT
TZOFFSETFROM:-0500
TZOFFSETTO:-0400
TZNAME:EDT
DTSTART:20210314T070000
END:DAYLIGHT
BEGIN:STANDARD
TZOFFSETFROM:-0400
TZOFFSETTO:-0500
TZNAME:EST
DTSTART:20211107T060000
END:STANDARD
BEGIN:DAYLIGHT
TZOFFSETFROM:-0500
TZOFFSETTO:-0400
TZNAME:EDT
DTSTART:20220313T070000
END:DAYLIGHT
BEGIN:STANDARD
TZOFFSETFROM:-0400
TZOFFSETTO:-0500
TZNAME:EST
DTSTART:20221106T060000
END:STANDARD
BEGIN:DAYLIGHT
TZOFFSETFROM:-0500
TZOFFSETTO:-0400
TZNAME:EDT
DTSTART:20230312T070000
END:DAYLIGHT
BEGIN:STANDARD
TZOFFSETFROM:-0400
TZOFFSETTO:-0500
TZNAME:EST
DTSTART:20231105T060000
END:STANDARD
END:VTIMEZONE
BEGIN:VEVENT
DTSTART;TZID=America/New_York:20221210T140000
DTEND;TZID=America/New_York:20221210T160000
DTSTAMP:20260425T164029
CREATED:20221117T193239Z
LAST-MODIFIED:20221205T171842Z
UID:10000064-1670680800-1670688000@poemuseum.org
SUMMARY:Poe's Enchanted Garden
DESCRIPTION:Join the Poe Museum for an afternoon of family festivities. This event is for children and families of alll ages.  \n\n\n\nEnjoy Edgar Allan Poe-themed arts and crafts including ornament decorating\, coloring\, bookmark crafting\, a scavenger hunt and storytime. \n\n\n\nStudio Two Three will be hosting a screen printing workshop.  Richmond Young Writers will be hosting a poetry station. Richmond Public Library will be offering books to check out.  \n\n\n\nThis event is FREE. If you would like to support the Poe Museum\, please consider donating. \n\n\n\nPoe’s Enchanted Garden is outdoors\, please dress accordingly. There will be complimentary hot chocolate. \n\n\n\nDecember 10th 2pm-4pm
URL:https://poemuseum.org/event/poes-enchanted-garden-2/
LOCATION:Virginia
ATTACH;FMTTYPE=image/png:https://poemuseum.org/wp-content/uploads/unnamed-1.png
END:VEVENT
END:VCALENDAR