BEGIN:VCALENDAR
VERSION:2.0
PRODID:-//The Poe Museum - ECPv6.15.20//NONSGML v1.0//EN
CALSCALE:GREGORIAN
METHOD:PUBLISH
X-ORIGINAL-URL:https://poemuseum.org
X-WR-CALDESC:Events for The Poe Museum
REFRESH-INTERVAL;VALUE=DURATION:PT1H
X-Robots-Tag:noindex
X-PUBLISHED-TTL:PT1H
BEGIN:VTIMEZONE
TZID:America/New_York
BEGIN:DAYLIGHT
TZOFFSETFROM:-0500
TZOFFSETTO:-0400
TZNAME:EDT
DTSTART:20230312T070000
END:DAYLIGHT
BEGIN:STANDARD
TZOFFSETFROM:-0400
TZOFFSETTO:-0500
TZNAME:EST
DTSTART:20231105T060000
END:STANDARD
BEGIN:DAYLIGHT
TZOFFSETFROM:-0500
TZOFFSETTO:-0400
TZNAME:EDT
DTSTART:20240310T070000
END:DAYLIGHT
BEGIN:STANDARD
TZOFFSETFROM:-0400
TZOFFSETTO:-0500
TZNAME:EST
DTSTART:20241103T060000
END:STANDARD
BEGIN:DAYLIGHT
TZOFFSETFROM:-0500
TZOFFSETTO:-0400
TZNAME:EDT
DTSTART:20250309T070000
END:DAYLIGHT
BEGIN:STANDARD
TZOFFSETFROM:-0400
TZOFFSETTO:-0500
TZNAME:EST
DTSTART:20251102T060000
END:STANDARD
END:VTIMEZONE
BEGIN:VEVENT
DTSTART;TZID=America/New_York:20241207T103000
DTEND;TZID=America/New_York:20241207T110000
DTSTAMP:20260421T075740
CREATED:20240723T143629Z
LAST-MODIFIED:20240723T143631Z
UID:10000119-1733567400-1733569200@poemuseum.org
SUMMARY:Little Raven Reading Hour
DESCRIPTION:Join us for a morning of story time and crafts in the Poe Museum’s Enchanted Garden! Do you have a little one learning to read? The Poe Museum’s Little Raven Reading hour is perfect for rising readers looking to incorporate the fun (and not too scary) works of Edgar Allan Poe into their readings. A Poe Museum staff member will read a selection of Poe-inspired children’s books and Poe poetry. Following the reading\, students will create a craft relating to their reading.  \n\n\n\nOur reading hour is recommended for 1st-5th grade students with readings available for older students as well.
URL:https://poemuseum.org/event/little-raven-reading-hour/2024-12-07/
LOCATION:The Poe Museum\, 1914 E Main Street\, Richmond\, Virginia\, 23059\, United States
ATTACH;FMTTYPE=image/png:https://poemuseum.org/wp-content/uploads/Little-Raven-Readings.png
END:VEVENT
END:VCALENDAR