BEGIN:VCALENDAR
VERSION:2.0
PRODID:-//The Poe Museum - ECPv6.15.20//NONSGML v1.0//EN
CALSCALE:GREGORIAN
METHOD:PUBLISH
X-ORIGINAL-URL:https://poemuseum.org
X-WR-CALDESC:Events for The Poe Museum
REFRESH-INTERVAL;VALUE=DURATION:PT1H
X-Robots-Tag:noindex
X-PUBLISHED-TTL:PT1H
BEGIN:VTIMEZONE
TZID:America/New_York
BEGIN:DAYLIGHT
TZOFFSETFROM:-0500
TZOFFSETTO:-0400
TZNAME:EDT
DTSTART:20240310T070000
END:DAYLIGHT
BEGIN:STANDARD
TZOFFSETFROM:-0400
TZOFFSETTO:-0500
TZNAME:EST
DTSTART:20241103T060000
END:STANDARD
BEGIN:DAYLIGHT
TZOFFSETFROM:-0500
TZOFFSETTO:-0400
TZNAME:EDT
DTSTART:20250309T070000
END:DAYLIGHT
BEGIN:STANDARD
TZOFFSETFROM:-0400
TZOFFSETTO:-0500
TZNAME:EST
DTSTART:20251102T060000
END:STANDARD
BEGIN:DAYLIGHT
TZOFFSETFROM:-0500
TZOFFSETTO:-0400
TZNAME:EDT
DTSTART:20260308T070000
END:DAYLIGHT
BEGIN:STANDARD
TZOFFSETFROM:-0400
TZOFFSETTO:-0500
TZNAME:EST
DTSTART:20261101T060000
END:STANDARD
END:VTIMEZONE
BEGIN:VEVENT
DTSTART;TZID=America/New_York:20250104T100000
DTEND;TZID=America/New_York:20250104T160000
DTSTAMP:20260425T164039
CREATED:20241218T174932Z
LAST-MODIFIED:20241218T181712Z
UID:10000127-1735984800-1736006400@poemuseum.org
SUMMARY:Arnold's Raid Event at Chimborazo Park
DESCRIPTION:For the last few years\, Chimborazo Park has hosted an event called Arnold’s Raid\, focusing on the 1781 raid on Richmond by Benedict Arnold. The goal of the event has been to expand its scope\, make it the premiere Revolutionary War event in Richmond\, and educate the public about the Revolution. \n\n\n\nThere will be re-enactors demonstrating historic clothing\, foods\, medicine\, weapons\, music\, and more. There will also be children’s activities. \n\n\n\nThe Poe Museum will be on site tabling at this event.
URL:https://poemuseum.org/event/arnolds-raid-event-at-chimborazo-park/
LOCATION:Chimborazo Park\, 3215 East Broad Street\, Richmond\, Virginia\, 23223
END:VEVENT
END:VCALENDAR