BEGIN:VCALENDAR
VERSION:2.0
PRODID:-//The Poe Museum - ECPv6.15.20//NONSGML v1.0//EN
CALSCALE:GREGORIAN
METHOD:PUBLISH
X-ORIGINAL-URL:https://poemuseum.org
X-WR-CALDESC:Events for The Poe Museum
REFRESH-INTERVAL;VALUE=DURATION:PT1H
X-Robots-Tag:noindex
X-PUBLISHED-TTL:PT1H
BEGIN:VTIMEZONE
TZID:America/New_York
BEGIN:DAYLIGHT
TZOFFSETFROM:-0500
TZOFFSETTO:-0400
TZNAME:EDT
DTSTART:20240310T070000
END:DAYLIGHT
BEGIN:STANDARD
TZOFFSETFROM:-0400
TZOFFSETTO:-0500
TZNAME:EST
DTSTART:20241103T060000
END:STANDARD
BEGIN:DAYLIGHT
TZOFFSETFROM:-0500
TZOFFSETTO:-0400
TZNAME:EDT
DTSTART:20250309T070000
END:DAYLIGHT
BEGIN:STANDARD
TZOFFSETFROM:-0400
TZOFFSETTO:-0500
TZNAME:EST
DTSTART:20251102T060000
END:STANDARD
BEGIN:DAYLIGHT
TZOFFSETFROM:-0500
TZOFFSETTO:-0400
TZNAME:EDT
DTSTART:20260308T070000
END:DAYLIGHT
BEGIN:STANDARD
TZOFFSETFROM:-0400
TZOFFSETTO:-0500
TZNAME:EST
DTSTART:20261101T060000
END:STANDARD
END:VTIMEZONE
BEGIN:VEVENT
DTSTART;TZID=America/New_York:20250716T180000
DTEND;TZID=America/New_York:20250716T190000
DTSTAMP:20260422T061612
CREATED:20250410T162051Z
LAST-MODIFIED:20250616T143919Z
UID:10000162-1752688800-1752692400@poemuseum.org
SUMMARY:Tell-Tale Talks featuring: Chris Semtner
DESCRIPTION:About Chris Semtner: \n\n\n\nChris Semtner\, who recently celebrated his 25-year anniversary as the curator of the Edgar Allan Poe Museum in Richmond\, Virginia\, is also an internationally exhibited fine artist whose paintings have entered numerous public collections including the Virginia Historical Society and the University of Maryland.  He has written several books and chapters on topics including literature\, visual art\, and history. He will be discussing his most recent book\, Edgar Allan Poe at Home\, at his Tell-Tale Talk on Wednesday\, July 16. \n\n\n\n\n\n\n\nAbout Edgar Allan Poe at Home: \n\n\n\nAuthor Christopher P. Semtner takes readers inside the homes of Edgar Allan Poe. Edgar Allan Poe’s terror tales and melancholy poetry carved a bold new path across literary genres. Meet the man behind the madness\, murder and mayhem on this road trip to Poe’s homes in Richmond\, Baltimore\, Philadelphia\, the Bronx and more. Along the way\, meet the grave robbers\, murderers and tooth thieves who inspired his greatest horror stories. Learn the secret histories of these Poe places to find out which was owned by a man who kept Poe’s wife’s bones in a box under his bed\, which might be haunted by Poe’s ghost\, which has the best basement for hiding corpses and which stood across the street from an anatomy lab. \n\n\n\n\n\n\n\nCopies of Chris’ book will be available for purchase during the event. \n\n\n\nReserve your tickets now!
URL:https://poemuseum.org/event/tell-tale-talks-featuring-chris-semtner/
LOCATION:Poe Museum’s Enchanted Garden\, 1914 E Main St\, Richmond VA\, Virginia\, 23223\, United States
CATEGORIES:Tell-Tale Talks
ATTACH;FMTTYPE=image/png:https://poemuseum.org/wp-content/uploads/image-10.png
END:VEVENT
END:VCALENDAR