BEGIN:VCALENDAR
VERSION:2.0
PRODID:-//The Poe Museum - ECPv6.15.20//NONSGML v1.0//EN
CALSCALE:GREGORIAN
METHOD:PUBLISH
X-ORIGINAL-URL:https://poemuseum.org
X-WR-CALDESC:Events for The Poe Museum
REFRESH-INTERVAL;VALUE=DURATION:PT1H
X-Robots-Tag:noindex
X-PUBLISHED-TTL:PT1H
BEGIN:VTIMEZONE
TZID:America/New_York
BEGIN:DAYLIGHT
TZOFFSETFROM:-0500
TZOFFSETTO:-0400
TZNAME:EDT
DTSTART:20240310T070000
END:DAYLIGHT
BEGIN:STANDARD
TZOFFSETFROM:-0400
TZOFFSETTO:-0500
TZNAME:EST
DTSTART:20241103T060000
END:STANDARD
BEGIN:DAYLIGHT
TZOFFSETFROM:-0500
TZOFFSETTO:-0400
TZNAME:EDT
DTSTART:20250309T070000
END:DAYLIGHT
BEGIN:STANDARD
TZOFFSETFROM:-0400
TZOFFSETTO:-0500
TZNAME:EST
DTSTART:20251102T060000
END:STANDARD
BEGIN:DAYLIGHT
TZOFFSETFROM:-0500
TZOFFSETTO:-0400
TZNAME:EDT
DTSTART:20260308T070000
END:DAYLIGHT
BEGIN:STANDARD
TZOFFSETFROM:-0400
TZOFFSETTO:-0500
TZNAME:EST
DTSTART:20261101T060000
END:STANDARD
END:VTIMEZONE
BEGIN:VEVENT
DTSTART;TZID=America/New_York:20251023T180000
DTEND;TZID=America/New_York:20251023T210000
DTSTAMP:20260421T195620
CREATED:20250123T195840Z
LAST-MODIFIED:20251017T143115Z
UID:10000145-1761242400-1761253200@poemuseum.org
SUMMARY:SOLD OUT: October 2025 UnHappy Hour: Rocky Horror Halloween
DESCRIPTION:THIS EVENT IS SOLD OUT. Thank you for understanding. \n\n\n\nLET’S DO THE TIME WARP AGAIN! \n\n\n\nCelebrate 50 years of The Rocky Horror Picture Show with a special Halloween UnHappy Hour on Thursday\, October 23 from 6–9pm! Rock out to The Embalmers\, sip on delicious brews from Triple Crossing plus an assortment of wines\, and savor traditional or plant-based southern cuisine from 1115 Mobile Kitchen.  \n\n\n\nCOSTUME CONTEST: The best Rocky Horror-inspired costume will win two complimentary tickets to the Poe Museum’s Birthday Bash in January! \n\n\n\nWe hope to see you there\, for a miserable time from six to nine… \n\n\n\n— \n\n\n\nGENERAL EVENT INFORMATION: \n\n\n\nRESTROOMSThe Poe Museum has two single stall restrooms within its historic buildings. Additionally\, portable toilets will also be available in the Poe Museum parking lot during this event. \n\n\n\nPARKINGFree overflow parking is available at the Holocaust Museum’s parking lot\, located one block away from the Poe Museum\, accessible by 21st or Dock St. \n\n\n\nFOOD & DRINKBeer\, wine and non-alcoholic refreshments will be for sale at a cash bar. While we accept cash or card\, we do not accept Apple Pay at this time. If you plan on purchasing alcohol during the event\, please bring a valid form of identification. To comply with our ABC license\, we will check the IDs of ANYONE who plans to purchase alcohol – no exceptions. 1115 Mobile Kitchen will be for sale in the Poe Museum parking lot during the event. No outside food or drinks are permitted. No food or drinks are permitted inside the museum buildings. \n\n\n\nWEATHERThis event is rain or shine. This event will be cancelled in the case of severe thunderstorms. \n\n\n\nACCESSIBILITYThe Poe Museum is dedicated to creating an accessible space for all. The Poe Museum can provide wheelchair ramps upon request. Seating is limited\, however The Poe Museum can provide additional seating upon request. The Poe Museum’s courtyard is laid with cobblestone\, which may be difficult to navigate for individuals with wheelchairs. For more information on accessibility at the Poe Museum\, please visit https://poemuseum.org/visit-us/. \n\n\n\nCODE OF CONDUCTTo ensure a positive experience for all visitors\, we ask guests to abide by our Poe Museum Code of Conduct.1. Respect the SpacePlease do not touch any exhibit displays unless otherwise indicated.Keep your voices low while indoors.Leave food and drink in the Gift Shop\, or the Enchanted Garden.Keep to the garden paths to avoid trampling plants and flowers.2. Respect OthersBe courteous to other museum visitors who are here to explore Poe’s legacy.Show respect to Poe Museum staff and volunteers\, who work to provide a positive experience for all visitors\, by following their instructions.Please supervise children.Guests who do not comply with the Poe Museum Code of Conduct may be asked to leave. \n\n\n\nDue to mature themes\, this event is not recommended for those younger than high-school aged. For anyone under 18 years of age\, parental discretion is advised. \n\n\n\nExhibits remain open.  \n\n\n\nFor additional information or other inquiries please contact nicole@poemuseum.org.
URL:https://poemuseum.org/event/october-2025-unhappy-hour-halloween/
LOCATION:Poe Museum’s Enchanted Garden\, 1914 E Main St\, Richmond VA\, Virginia\, 23223\, United States
CATEGORIES:UnHappy Hour
ATTACH;FMTTYPE=image/png:https://poemuseum.org/wp-content/uploads/Halloween-Medium-Banner-US-Landscape-scaled-e1759411739783.png
END:VEVENT
END:VCALENDAR