BEGIN:VCALENDAR
VERSION:2.0
PRODID:-//The Poe Museum - ECPv6.15.20//NONSGML v1.0//EN
CALSCALE:GREGORIAN
METHOD:PUBLISH
X-WR-CALNAME:The Poe Museum
X-ORIGINAL-URL:https://poemuseum.org
X-WR-CALDESC:Events for The Poe Museum
REFRESH-INTERVAL;VALUE=DURATION:PT1H
X-Robots-Tag:noindex
X-PUBLISHED-TTL:PT1H
BEGIN:VTIMEZONE
TZID:America/New_York
BEGIN:DAYLIGHT
TZOFFSETFROM:-0500
TZOFFSETTO:-0400
TZNAME:EDT
DTSTART:20240310T070000
END:DAYLIGHT
BEGIN:STANDARD
TZOFFSETFROM:-0400
TZOFFSETTO:-0500
TZNAME:EST
DTSTART:20241103T060000
END:STANDARD
BEGIN:DAYLIGHT
TZOFFSETFROM:-0500
TZOFFSETTO:-0400
TZNAME:EDT
DTSTART:20250309T070000
END:DAYLIGHT
BEGIN:STANDARD
TZOFFSETFROM:-0400
TZOFFSETTO:-0500
TZNAME:EST
DTSTART:20251102T060000
END:STANDARD
BEGIN:DAYLIGHT
TZOFFSETFROM:-0500
TZOFFSETTO:-0400
TZNAME:EDT
DTSTART:20260308T070000
END:DAYLIGHT
BEGIN:STANDARD
TZOFFSETFROM:-0400
TZOFFSETTO:-0500
TZNAME:EST
DTSTART:20261101T060000
END:STANDARD
END:VTIMEZONE
BEGIN:VEVENT
DTSTART;TZID=America/New_York:20250424T180000
DTEND;TZID=America/New_York:20250424T210000
DTSTAMP:20260423T180318
CREATED:20250123T195007Z
LAST-MODIFIED:20250407T164843Z
UID:10000139-1745517600-1745528400@poemuseum.org
SUMMARY:April 2025 UnHappy Hour: Cirque du Poe-leil
DESCRIPTION:Presented by Stone Brewing\, join us on Thursday\, April 24th from 6-9 PM for the Poe Museum’s Cirque du Poe-leilUnHappy Hour! \n\n\n\nStep right up for the first UnHappy Hour of the year! At this circus themed party\, you can enjoy the musical accompaniement of Mothman Rodeo while taking in the nostalgic ambiance of an old-timey carnival. While dressing to theme is not required\, we always encourage our guests to go all out. So dust off that clown nose and come on out to the Cirque du Poe-leil! \n\n\n\nBeer from Stone Brewing and an assortment of wines will be available for purchase at the bar. 1115 Mobile Kitchen will also be for sale in the parking lot. \n\n\n\nWe hope to see you there\, for a miserable time from six to nine… \n\n\n\nMothman Rodeo – This super group of VA musicians plays a mix of folk punk\, & country rock! \n\n\n\n*** \n\n\n\nThis event is open to all ages. The Poe Museum will not serve alcohol to any individual under the age of 21.  \n\n\n\nExhibits remain open.  \n\n\n\nEmail Nicole Coppino at nicole@poemuseum.org for media inquiries or any additional information.
URL:https://poemuseum.org/event/april-2025-unhappy-hour-theme-tba/
LOCATION:Poe Museum’s Enchanted Garden\, 1914 E Main St\, Richmond VA\, Virginia\, 23223\, United States
CATEGORIES:UnHappy Hour
ATTACH;FMTTYPE=image/png:https://poemuseum.org/wp-content/uploads/Cirque-du-poe-leil-2.png
END:VEVENT
END:VCALENDAR