BEGIN:VCALENDAR
VERSION:2.0
PRODID:-//The Poe Museum - ECPv6.15.20//NONSGML v1.0//EN
CALSCALE:GREGORIAN
METHOD:PUBLISH
X-ORIGINAL-URL:https://poemuseum.org
X-WR-CALDESC:Events for The Poe Museum
REFRESH-INTERVAL;VALUE=DURATION:PT1H
X-Robots-Tag:noindex
X-PUBLISHED-TTL:PT1H
BEGIN:VTIMEZONE
TZID:America/New_York
BEGIN:DAYLIGHT
TZOFFSETFROM:-0500
TZOFFSETTO:-0400
TZNAME:EDT
DTSTART:20220313T070000
END:DAYLIGHT
BEGIN:STANDARD
TZOFFSETFROM:-0400
TZOFFSETTO:-0500
TZNAME:EST
DTSTART:20221106T060000
END:STANDARD
BEGIN:DAYLIGHT
TZOFFSETFROM:-0500
TZOFFSETTO:-0400
TZNAME:EDT
DTSTART:20230312T070000
END:DAYLIGHT
BEGIN:STANDARD
TZOFFSETFROM:-0400
TZOFFSETTO:-0500
TZNAME:EST
DTSTART:20231105T060000
END:STANDARD
BEGIN:DAYLIGHT
TZOFFSETFROM:-0500
TZOFFSETTO:-0400
TZNAME:EDT
DTSTART:20240310T070000
END:DAYLIGHT
BEGIN:STANDARD
TZOFFSETFROM:-0400
TZOFFSETTO:-0500
TZNAME:EST
DTSTART:20241103T060000
END:STANDARD
END:VTIMEZONE
BEGIN:VEVENT
DTSTART;TZID=America/New_York:20230703T130000
DTEND;TZID=America/New_York:20230703T163000
DTSTAMP:20260424T070721
CREATED:20230518T181526Z
LAST-MODIFIED:20230518T181608Z
UID:10000076-1688389200-1688401800@poemuseum.org
SUMMARY:Social Studies Educator Workshop
DESCRIPTION:The Poe Museum is partnering with the Virginia Council for the Social Studies on July 3rd for an afternoon of guided tours\, workshops\, and interactive activities! This event is open to all Virginia social studies educators.  \n\n\n\nTickets to this event are $5 per person. 
URL:https://poemuseum.org/event/social-studies-educator-workshop/
LOCATION:The Poe Museum\, 1914 E Main Street\, Richmond\, Virginia\, 23059\, United States
END:VEVENT
BEGIN:VEVENT
DTSTART;TZID=America/New_York:20230712T180000
DTEND;TZID=America/New_York:20230712T200000
DTSTAMP:20260424T070721
CREATED:20230629T133713Z
LAST-MODIFIED:20230629T133714Z
UID:10000080-1689184800-1689192000@poemuseum.org
SUMMARY:Illumination Series Featuring: Poe Movies
DESCRIPTION:Join us on Wednesday\, July 12th at 6:00pm for a movie night at the Poe Museum! \n\n\n\nWe are thrilled to host Thad Ciechanowski of POE MOVIES at our next Illumination Series! Thad is a filmmaker and director who has dedicated himself to translating the works of Edgar Allan Poe into the film medium with a specific focus on creating educational experiences. Thad will present a screening of his exceptional adaptation of “The Tell-Tale Heart” and then discuss the process of taking a Poe story and transforming it into an educational film! \n\n\n\nCheck out the trailer HERE! \n\n\n\n\n\n \n\n\n\nWine and beer will be available for purchase. \n\n\n\n*** \n\n\n\nReach out to Paul Bean at paul@poemuseum.org for more information.
URL:https://poemuseum.org/event/illumination-series-featuring-poe-movies/
LOCATION:The Poe Museum\, 1914 E Main Street\, Richmond\, Virginia\, 23059\, United States
END:VEVENT
BEGIN:VEVENT
DTSTART;TZID=America/New_York:20230722T100000
DTEND;TZID=America/New_York:20230722T120000
DTSTAMP:20260424T070721
CREATED:20230629T132725Z
LAST-MODIFIED:20230629T133003Z
UID:10000079-1690020000-1690027200@poemuseum.org
SUMMARY:Summer Poe's Enchanted Garden
DESCRIPTION:Join us on Saturday\, July 22nd from 10:00am to 12:00pm for a morning of FREE family-friendly programming brought to you by the Poe Museum and our community partners: Lewis Ginter Botanical Garden\, Shalom Farms\, and Youth Outdoor Workshops! \n\n\n\nThe Poe Museum and these wonderful oerganizations will provide a diverse selection of programming ranging from arts and crafts to vegetable taste tests! \n\n\n\nPlease RSVP to this free event and get outside at the Poe Museum! \n\n\n\n\n\n \n\n\n\nPlease email Paul Bean at paul@poemuseum.org for more information.
URL:https://poemuseum.org/event/summer-poes-enchanted-garden/
LOCATION:The Poe Museum\, 1914 E Main Street\, Richmond\, Virginia\, 23059\, United States
END:VEVENT
BEGIN:VEVENT
DTSTART;TZID=America/New_York:20230724T130000
DTEND;TZID=America/New_York:20230724T163000
DTSTAMP:20260424T070721
CREATED:20230615T175115Z
LAST-MODIFIED:20230615T175116Z
UID:10000078-1690203600-1690216200@poemuseum.org
SUMMARY:English Teachers Workshop
DESCRIPTION:The Poe Museum is partnering with the Virginia Association of Teachers of English on July 24th for an afternoon of guided tours\, workshops\, and a happy hour!  \n\n\n\nThis event is open to all Virginia English educators.  \n\n\n\nThis event is free\, but RSVP’s are required! \n\n\n\nPlease reach out emma@poemuseum.org with any questions! \n\n\n\n\n\nNOTE: this event is capped at 50 attendees
URL:https://poemuseum.org/event/english-teachers-workshop/
LOCATION:The Poe Museum\, 1914 E Main Street\, Richmond\, Virginia\, 23059\, United States
END:VEVENT
BEGIN:VEVENT
DTSTART;TZID=America/New_York:20230727T180000
DTEND;TZID=America/New_York:20230727T210000
DTSTAMP:20260424T070721
CREATED:20230629T134254Z
LAST-MODIFIED:20230629T134255Z
UID:10000081-1690480800-1690491600@poemuseum.org
SUMMARY:Old Hollywood UnHappy Hour
DESCRIPTION:Presented by Tabol Brewing! \n\n\n\nThis month we go to Old Hollywood for our UnHappy Hour\, so dress to impress and join us for a glamorous evening under the stars on Thursday\, July 27th from 6:00 to 9:00!  \n\n\n\nCome yam to the upbeat jazz brought to you by The Sweet Potatoes\, enjoy a selection of Tabol Brewing beers\, and the delicious culinary craftings of TBT El Gallo! \n\n\n\nAs always\, it’s a miserable time from six to nine… \n\n\n\n\n\n \n\n\n\nEmail Paul Bean at paul@poemuseum.org for media inquiries and any additional information.
URL:https://poemuseum.org/event/old-hollywood-unhappy-hour/
LOCATION:The Poe Museum\, 1914 E Main Street\, Richmond\, Virginia\, 23059\, United States
END:VEVENT
END:VCALENDAR