BEGIN:VCALENDAR
VERSION:2.0
PRODID:-//The Poe Museum - ECPv6.15.20//NONSGML v1.0//EN
CALSCALE:GREGORIAN
METHOD:PUBLISH
X-ORIGINAL-URL:https://poemuseum.org
X-WR-CALDESC:Events for The Poe Museum
REFRESH-INTERVAL;VALUE=DURATION:PT1H
X-Robots-Tag:noindex
X-PUBLISHED-TTL:PT1H
BEGIN:VTIMEZONE
TZID:America/New_York
BEGIN:DAYLIGHT
TZOFFSETFROM:-0500
TZOFFSETTO:-0400
TZNAME:EDT
DTSTART:20230312T070000
END:DAYLIGHT
BEGIN:STANDARD
TZOFFSETFROM:-0400
TZOFFSETTO:-0500
TZNAME:EST
DTSTART:20231105T060000
END:STANDARD
BEGIN:DAYLIGHT
TZOFFSETFROM:-0500
TZOFFSETTO:-0400
TZNAME:EDT
DTSTART:20240310T070000
END:DAYLIGHT
BEGIN:STANDARD
TZOFFSETFROM:-0400
TZOFFSETTO:-0500
TZNAME:EST
DTSTART:20241103T060000
END:STANDARD
BEGIN:DAYLIGHT
TZOFFSETFROM:-0500
TZOFFSETTO:-0400
TZNAME:EDT
DTSTART:20250309T070000
END:DAYLIGHT
BEGIN:STANDARD
TZOFFSETFROM:-0400
TZOFFSETTO:-0500
TZNAME:EST
DTSTART:20251102T060000
END:STANDARD
END:VTIMEZONE
BEGIN:VEVENT
DTSTART;TZID=America/New_York:20240610T100000
DTEND;TZID=America/New_York:20240610T160000
DTSTAMP:20260421T072640
CREATED:20240405T182626Z
LAST-MODIFIED:20240429T173449Z
UID:10000096-1718013600-1718035200@poemuseum.org
SUMMARY:Professional Development Workshop
DESCRIPTION:Poe and Place: Connecting Poe to Richmond\, Virginia’s Physical Landscape \n\n\n\n“I am a Virginian” -Edgar A. Poe (June 26th\, 1841) \n\n\n\nWhile many cities on the east coast claim Edgar Allan Poe\, Poe claimed Richmond. This professional development workshop explores how the physical landscape of Poe’s hometown of Richmond\, Virginia shaped his life and literature as well as ways to utilize these physical reminders of the past to connect students to Edgar Allan Poe’s history. \n\n\n\nThis free professional development workshop is hosted at The Poe Museum and St. John’s Church in Richmond\, Virginia. This workshop includes a guided tour of the Poe Museum\, access to the grounds of St. John’s Church\, three focused talks by Poe specialists\, educator resources & more! Lunch and one complimentary drink at our UnHappy Hour social are provided. A detailed schedule of the event can be viewed on our ticketing page below. \n\n\n\nA portion of this event will be hosted outside in the Poe Museum’s Enchanted Garden. In addition to materials to take notes with\, we recommend bringing hats\, fans\, and water if needed. \n\n\n\n*Certification Points available upon request* Please email emma@poemuseum.org for any questions regarding this event. \n\n\n\nNOTE: This event is limited to 50 attendees. RSVP Required.
URL:https://poemuseum.org/event/professional-development-workshop/
LOCATION:The Poe Museum\, 1914 E Main Street\, Richmond\, Virginia\, 23059\, United States
ATTACH;FMTTYPE=image/png:https://poemuseum.org/wp-content/uploads/Green-Mustard-Modern-Education-3.png
END:VEVENT
BEGIN:VEVENT
DTSTART;TZID=America/New_York:20240619T180000
DTEND;TZID=America/New_York:20240619T200000
DTSTAMP:20260421T072640
CREATED:20240418T210212Z
LAST-MODIFIED:20240514T152736Z
UID:10000100-1718820000-1718827200@poemuseum.org
SUMMARY:Illumination Series ft. Lee Mandelo
DESCRIPTION:In collaboration with Fountain Bookstore\, join us on Wednesday\, June 19th from 6:00 – 8:00 pm for an evening with Lee Mandelo! \n\n\n\nThe Woods All Black is equal parts historical horror\, trans romance\, and blood-soaked revenge\, all set in 1920s Appalachia… \n\n\n\nHear Lee discuss his his latest novella\, ask him questions and get your own copy signed! Copies of The Woods All Black will be for sale on site\, courtesy of Fountain Bookstore.
URL:https://poemuseum.org/event/illumination-series-ft-lee-mandelo/
LOCATION:Virginia
CATEGORIES:Illumination Series
ATTACH;FMTTYPE=image/png:https://poemuseum.org/wp-content/uploads/lee-mandelo.png
END:VEVENT
BEGIN:VEVENT
DTSTART;TZID=America/New_York:20240627T180000
DTEND;TZID=America/New_York:20240627T210000
DTSTAMP:20260421T072640
CREATED:20240514T155057Z
LAST-MODIFIED:20240611T140627Z
UID:10000106-1719511200-1719522000@poemuseum.org
SUMMARY:June 2024 UnHappy Hour: PRIDE!
DESCRIPTION:Pretty Bitter and Sweet Pickles \n\n\n\n\n\n\n\n\n\nJoin us on Thursday\, June 27th from 6-9 PM for the Poe Museum’s Pride UnHappy Hour! \n\n\n\nGet ready to slay this Pride Month with a fabulous celebration! We’re beyond excited to welcome the iconic “queer emo dreampop-ish something or other” band\, Pretty Bitter\, all the way from DC! But that’s not all\, darling—prepare for a fierce drag performance by Richmond’s very own Sweet Pickles! \n\n\n\nSip on some delish beer from Benchtop Craft Brewing and savor exquisite wines at the bar. And for those munchie moments\, 1115 Mobile Kitchen will be serving up divine vegan and carnivore delights. \n\n\n\n Everyone is invited to this extravaganza of love\, music\, and pure fabulousness!  \n\n\n\nWe hope to see you there\, for a miserable time from six to nine… \n\n\n\n\n\n\n\n\n\nPretty Bitter \n\n\n\n\n\n\n\n\n\nSweet Pickles \n\n\n\n\n\n*** \n\n\n\nExtra parking will be available at the Holocaust Museum’s parking lot\, accessible by 21st or Dock St. \n\n\n\nTicket receipts to the May 2024 Renaissance Fair UnHappy Hour will be redeemable for admission to any one of the June-September 2024 UnHappy Hours. \n\n\n\nEmail Nicole Coppino at nicole@poemuseum.org for media inquiries or any additional information.
URL:https://poemuseum.org/event/june-2024-unhappy-hour-pride/
LOCATION:Virginia
CATEGORIES:UnHappy Hour
ATTACH;FMTTYPE=image/png:https://poemuseum.org/wp-content/uploads/Blue-Pink-Vintage-Typography-Retro-Car-Show-Flyer-Instagram-Post-2.png
END:VEVENT
END:VCALENDAR